BEGIN:VCALENDAR
VERSION:2.0
METHOD:PUBLISH
PRODID:-//Accessible Web Design//My Calendar//http://www.joedolson.com//v//EN';
BEGIN:VEVENT
UID:4-4
LOCATION:
SUMMARY:VI Premios MujerAGRO - Cierre de Inscripciones
DTSTAMP:20231010T000000
ORGANIZER;CN=Marga López Polo:MAILTO:mlopez@sieteagromarketing.com
DTSTART:20231010T000000
DTEND:20231010T010000
CATEGORIES:General
URL;VALUE=URI:https://mujeragro.es/mc-events/vi-premios-mujeragro-cierre-de-inscripciones/?mc_id=4
DESCRIPTION:
END:VEVENT
END:VCALENDAR