BEGIN:VCALENDAR
VERSION:2.0
METHOD:PUBLISH
PRODID:-//Accessible Web Design//My Calendar//http://www.joedolson.com//v//EN';
BEGIN:VEVENT
UID:3-3
LOCATION:
SUMMARY:VI Premios MujerAGRO - Inscripciones Abiertas
DTSTAMP:20230621
ORGANIZER;CN=Marga López Polo:MAILTO:mlopez@sieteagromarketing.com
DTSTART:20230621
DTEND:20231011
CATEGORIES:General
URL;VALUE=URI:https://mujeragro.es/mc-events/vi-premios-mujeragro-inscripciones-abiertas/?mc_id=3
DESCRIPTION:El plazo para la presentación de las candidaturas a los VI Premios MujerAGRO, comprende desde el 21 de junio hasta el 10 de octubre de 2023 a las 23:59 horas. Más info:
X-FUNAMBOL-ALLDAY: 1
X-MICROSOFT-CDO-ALLDAYEVENT: TRUE

END:VEVENT
END:VCALENDAR